
BEGIN:VCALENDAR
VERSION:2.0
PRODID:-//Mary Brown&#039;s Centre - St. John&#039;s, NL - ECPv6.15.20//NONSGML v1.0//EN
CALSCALE:GREGORIAN
METHOD:PUBLISH
X-ORIGINAL-URL:https://mbcentre.ca
X-WR-CALDESC:Events for Mary Brown&#039;s Centre - St. John&#039;s, NL
REFRESH-INTERVAL;VALUE=DURATION:PT1H
X-Robots-Tag:noindex
X-PUBLISHED-TTL:PT1H
BEGIN:VTIMEZONE
TZID:America/Toronto
BEGIN:DAYLIGHT
TZOFFSETFROM:-0500
TZOFFSETTO:-0400
TZNAME:EDT
DTSTART:20250309T070000
END:DAYLIGHT
BEGIN:STANDARD
TZOFFSETFROM:-0400
TZOFFSETTO:-0500
TZNAME:EST
DTSTART:20251102T060000
END:STANDARD
BEGIN:DAYLIGHT
TZOFFSETFROM:-0500
TZOFFSETTO:-0400
TZNAME:EDT
DTSTART:20260308T070000
END:DAYLIGHT
BEGIN:STANDARD
TZOFFSETFROM:-0400
TZOFFSETTO:-0500
TZNAME:EST
DTSTART:20261101T060000
END:STANDARD
BEGIN:DAYLIGHT
TZOFFSETFROM:-0500
TZOFFSETTO:-0400
TZNAME:EDT
DTSTART:20270314T070000
END:DAYLIGHT
BEGIN:STANDARD
TZOFFSETFROM:-0400
TZOFFSETTO:-0500
TZNAME:EST
DTSTART:20271107T060000
END:STANDARD
END:VTIMEZONE
BEGIN:VEVENT
DTSTART;TZID=America/Toronto:20260425T190000
DTEND;TZID=America/Toronto:20260425T213000
DTSTAMP:20260425T162011
CREATED:20251201T132438Z
LAST-MODIFIED:20260205T163234Z
UID:10001175-1777143600-1777152600@mbcentre.ca
SUMMARY:Rogues vs New England Kraken
DESCRIPTION:
URL:https://mbcentre.ca/event/rogues-vs-tbl-4/
LOCATION:Mary Brown’s Centre\, 50 New Gower\, St. John's\, Newfoundland\, A1C 1J3\, Canada
CATEGORIES:entertainment,sports
ATTACH;FMTTYPE=image/png:https://mbcentre.ca/wp-content/uploads/2023/01/partner-logo-rogues.png
END:VEVENT
BEGIN:VEVENT
DTSTART;TZID=America/Toronto:20260426T123000
DTEND;TZID=America/Toronto:20260426T130000
DTSTAMP:20260425T162011
CREATED:20260425T165427Z
LAST-MODIFIED:20260425T165709Z
UID:10001599-1777206600-1777208400@mbcentre.ca
SUMMARY:FMX World Tour VIP Pit Party
DESCRIPTION:
URL:https://mbcentre.ca/event/fmx-world-tour-vip-pit-party/
LOCATION:Mary Brown’s Centre\, 50 New Gower\, St. John's\, Newfoundland\, A1C 1J3\, Canada
CATEGORIES:entertainment
END:VEVENT
BEGIN:VEVENT
DTSTART;TZID=America/Toronto:20260426T130000
DTEND;TZID=America/Toronto:20260426T140000
DTSTAMP:20260425T162011
CREATED:20260425T164808Z
LAST-MODIFIED:20260425T164819Z
UID:10001598-1777208400-1777212000@mbcentre.ca
SUMMARY:FMX World Tour General Pit Party
DESCRIPTION:
URL:https://mbcentre.ca/event/fmx-world-tour-general-pit-party/
LOCATION:Mary Brown’s Centre\, 50 New Gower\, St. John's\, Newfoundland\, A1C 1J3\, Canada
CATEGORIES:entertainment
END:VEVENT
BEGIN:VEVENT
DTSTART;TZID=America/Toronto:20260426T143000
DTEND;TZID=America/Toronto:20260426T160000
DTSTAMP:20260425T162011
CREATED:20251116T152832Z
LAST-MODIFIED:20260425T173515Z
UID:10001156-1777213800-1777219200@mbcentre.ca
SUMMARY:FMX World Tour
DESCRIPTION:
URL:https://mbcentre.ca/event/fmx-world-tour/
LOCATION:Mary Brown’s Centre\, 50 New Gower\, St. John's\, Newfoundland\, A1C 1J3\, Canada
CATEGORIES:entertainment
ATTACH;FMTTYPE=image/png:https://mbcentre.ca/wp-content/uploads/2025/11/600x600.png
END:VEVENT
END:VCALENDAR