
BEGIN:VCALENDAR
VERSION:2.0
PRODID:-//Mary Brown&#039;s Centre - St. John&#039;s, NL - ECPv6.15.20//NONSGML v1.0//EN
CALSCALE:GREGORIAN
METHOD:PUBLISH
X-ORIGINAL-URL:https://mbcentre.ca
X-WR-CALDESC:Events for Mary Brown&#039;s Centre - St. John&#039;s, NL
REFRESH-INTERVAL;VALUE=DURATION:PT1H
X-Robots-Tag:noindex
X-PUBLISHED-TTL:PT1H
BEGIN:VTIMEZONE
TZID:America/Toronto
BEGIN:DAYLIGHT
TZOFFSETFROM:-0500
TZOFFSETTO:-0400
TZNAME:EDT
DTSTART:20250309T070000
END:DAYLIGHT
BEGIN:STANDARD
TZOFFSETFROM:-0400
TZOFFSETTO:-0500
TZNAME:EST
DTSTART:20251102T060000
END:STANDARD
BEGIN:DAYLIGHT
TZOFFSETFROM:-0500
TZOFFSETTO:-0400
TZNAME:EDT
DTSTART:20260308T070000
END:DAYLIGHT
BEGIN:STANDARD
TZOFFSETFROM:-0400
TZOFFSETTO:-0500
TZNAME:EST
DTSTART:20261101T060000
END:STANDARD
BEGIN:DAYLIGHT
TZOFFSETFROM:-0500
TZOFFSETTO:-0400
TZNAME:EDT
DTSTART:20270314T070000
END:DAYLIGHT
BEGIN:STANDARD
TZOFFSETFROM:-0400
TZOFFSETTO:-0500
TZNAME:EST
DTSTART:20271107T060000
END:STANDARD
END:VTIMEZONE
BEGIN:VEVENT
DTSTART;TZID=America/Toronto:20260505T190000
DTEND;TZID=America/Toronto:20260505T213000
DTSTAMP:20260419T120147
CREATED:20251201T132527Z
LAST-MODIFIED:20260205T163304Z
UID:10001176-1778007600-1778016600@mbcentre.ca
SUMMARY:Rogues vs Port City Power
DESCRIPTION:
URL:https://mbcentre.ca/event/rogues-vs-tbl-5/
LOCATION:Mary Brown’s Centre\, 50 New Gower\, St. John's\, Newfoundland\, A1C 1J3\, Canada
CATEGORIES:entertainment,sports
ATTACH;FMTTYPE=image/png:https://mbcentre.ca/wp-content/uploads/2023/01/partner-logo-rogues.png
END:VEVENT
BEGIN:VEVENT
DTSTART;TZID=America/Toronto:20260506T190000
DTEND;TZID=America/Toronto:20260506T213000
DTSTAMP:20260419T120147
CREATED:20251201T132617Z
LAST-MODIFIED:20260205T163332Z
UID:10001177-1778094000-1778103000@mbcentre.ca
SUMMARY:Rogues vs Port City Power
DESCRIPTION:
URL:https://mbcentre.ca/event/rogues-vs-tbl-6/
LOCATION:Mary Brown’s Centre\, 50 New Gower\, St. John's\, Newfoundland\, A1C 1J3\, Canada
CATEGORIES:entertainment,sports
ATTACH;FMTTYPE=image/png:https://mbcentre.ca/wp-content/uploads/2023/01/partner-logo-rogues.png
END:VEVENT
BEGIN:VEVENT
DTSTART;TZID=America/Toronto:20260514T190000
DTEND;TZID=America/Toronto:20260514T213000
DTSTAMP:20260419T120147
CREATED:20251201T132706Z
LAST-MODIFIED:20251201T132707Z
UID:10001178-1778785200-1778794200@mbcentre.ca
SUMMARY:Rogues vs Halifax Hoopers
DESCRIPTION:
URL:https://mbcentre.ca/event/rogues-vs-halifax-hoopers-2/
LOCATION:Mary Brown’s Centre\, 50 New Gower\, St. John's\, Newfoundland\, A1C 1J3\, Canada
CATEGORIES:entertainment,sports
ATTACH;FMTTYPE=image/png:https://mbcentre.ca/wp-content/uploads/2023/01/partner-logo-rogues.png
END:VEVENT
BEGIN:VEVENT
DTSTART;TZID=America/Toronto:20260515T190000
DTEND;TZID=America/Toronto:20260515T213000
DTSTAMP:20260419T120147
CREATED:20251201T150100Z
LAST-MODIFIED:20251201T150101Z
UID:10001179-1778871600-1778880600@mbcentre.ca
SUMMARY:Rogues vs Halifax Hoopers
DESCRIPTION:
URL:https://mbcentre.ca/event/rogues-vs-halifax-hoopers-3/
LOCATION:Mary Brown’s Centre\, 50 New Gower\, St. John's\, Newfoundland\, A1C 1J3\, Canada
CATEGORIES:entertainment,sports
ATTACH;FMTTYPE=image/png:https://mbcentre.ca/wp-content/uploads/2023/01/partner-logo-rogues.png
END:VEVENT
BEGIN:VEVENT
DTSTART;TZID=America/Toronto:20260523T190000
DTEND;TZID=America/Toronto:20260523T213000
DTSTAMP:20260419T120147
CREATED:20251201T150717Z
LAST-MODIFIED:20260205T163352Z
UID:10001180-1779562800-1779571800@mbcentre.ca
SUMMARY:Rogues vs Tri-State Admirals
DESCRIPTION:
URL:https://mbcentre.ca/event/rogues-vs-tbl-7/
LOCATION:Mary Brown’s Centre\, 50 New Gower\, St. John's\, Newfoundland\, A1C 1J3\, Canada
CATEGORIES:entertainment,sports
ATTACH;FMTTYPE=image/png:https://mbcentre.ca/wp-content/uploads/2023/01/partner-logo-rogues.png
END:VEVENT
BEGIN:VEVENT
DTSTART;TZID=America/Toronto:20260524T160000
DTEND;TZID=America/Toronto:20260524T183000
DTSTAMP:20260419T120147
CREATED:20251201T150815Z
LAST-MODIFIED:20260205T163434Z
UID:10001181-1779638400-1779647400@mbcentre.ca
SUMMARY:Rogues vs Tri-State Admirals
DESCRIPTION:
URL:https://mbcentre.ca/event/rogues-vs-tbl-8/
CATEGORIES:entertainment,sports
ATTACH;FMTTYPE=image/png:https://mbcentre.ca/wp-content/uploads/2023/01/partner-logo-rogues.png
END:VEVENT
END:VCALENDAR